BEGIN:VCALENDAR
VERSION:2.0
CALSCALE:GREGORIAN
METHOD:PUBLISH
X-WR-TIMEZONE:UTC
BEGIN:VEVENT
SUMMARY:Doctor Honoris Causa
DTSTART:20260505T120000
DTEND:20260505T140000
DTSTAMP:20260423T111426Z
UID:156global_name
CATEGORIES:
DESCRIPTION:Ceremonia de decernare a titlului de Doctor Honoris Causa Doam
 nei Prof.univ.dr. Ana Lucia Smith Iltis
LOCATION:Locatie universitate
URL:https://productie-web.uab.ro/evenimente/156-doctor-honoris-causa
END:VEVENT
END:VCALENDAR
