BEGIN:VCALENDAR
VERSION:2.0
CALSCALE:GREGORIAN
METHOD:PUBLISH
X-WR-TIMEZONE:UTC
BEGIN:VEVENT
SUMMARY:„Convorbind cu idealuri… 6 studii despre romantismul românesc
 ”
DTSTART:20260424T100000
DTEND:20260424T120000
DTSTAMP:20260423T013947Z
UID:155global_name
CATEGORIES:
DESCRIPTION:CENTRUL DE CERCETĂRI FILOLOGICE ȘI DIALOG MULTICULTURAL și 
 ȘCOALA DOCTORALĂ DE FILOLOGIE din cadrul IOSUD-UAB vă invită la un eve
 niment cultural de excepție: întâlnirea cu criticul și istoricul liter
 ar IOANA BOT\, profesor universitar și eminescolog consacrat\, care ne va
  onora cu prezența la o dezbatere despre romantismul românesc și europe
 an\, pornind de la volumul „Convorbind cu idealuri… 6 studii despre ro
 mantismul românesc” (Casa Cărții de Știință\, Cluj-Napoca\, 2025).
 \n\nEvenimentul va avea loc vineri\, 24 aprilie 2026\, ora 10.00\, în SAL
 A SENATULUI (Rectoratul Universității „1 Decembrie 1918” - Palatul A
 por).
LOCATION:Locatie universitate
URL:https://productie-web.uab.ro/evenimente/155-convorbind-cu-idealuri-6-s
 tudii-despre-romantismul-romanesc
END:VEVENT
END:VCALENDAR
